Workbook

Sheet Presupuesto Emporda
A2: Jardineria Emporda comparativa precios por casa
C4: 25497.79 | D4: 45940
A5: Departament | B5: Multiplicador coeficientes | C5: Precio /Cuota pagada jardineria Comunitaria 2026 con segunda poda incluida | D5: Precio /Cuota presupuesto + 80,17% jardineria Comunitaria 2027 con segunda poda incluida. | E5: Diferencia de mas por casa jardineria comunitaria | F5: Cuota 2025 / 2026 Pagada jardineria privativa | G5: Cuota a pagar teoricamente aumento 80,17% Jardineria privativa. | H5: La suma de lo pagado finalmente en 2025-2026 de jardineria Emporda | I5: Lo que pagara ahora año 2027 Jardineria Emporda aumento 80,17%
A6: Vall Gran 1 | B6: 0.00919 | C6: =25497.74*B6 -> 234.32423 | D6: =45940*B6 -> 422.1886 | E6: =D6-C6 -> 187.86437 | H6: =C6+F6 -> 234.32423 | I6: =D6+G6 -> 422.1886
A7: Vall Gran 2 | B7: 0.00919 | C7: =25497.74*B7 -> 234.32423 | D7: =45940*B7 -> 422.1886 | E7: =D7-C7 -> 187.86437 | H7: =C7+F7 -> 234.32423 | I7: =D7+G7 -> 422.1886
A8: Vall Gran 3 | B8: 0.00919 | C8: =25497.74*B8 -> 234.32423 | D8: =45940*B8 -> 422.1886 | E8: =D8-C8 -> 187.86437 | H8: =C8+F8 -> 234.32423 | I8: =D8+G8 -> 422.1886
A9: Vall Gran 4 | B9: 0.00919 | C9: =25497.74*B9 -> 234.32423 | D9: =45940*B9 -> 422.1886 | E9: =D9-C9 -> 187.86437 | H9: =C9+F9 -> 234.32423 | I9: =D9+G9 -> 422.1886
A10: Vall Gran 5 | B10: 0.00919 | C10: =25497.74*B10 -> 234.32423 | D10: =45940*B10 -> 422.1886 | E10: =D10-C10 -> 187.86437 | H10: =C10+F10 -> 234.32423 | I10: =D10+G10 -> 422.1886
A11: Vall Gran 6 | B11: 0.00919 | C11: =25497.74*B11 -> 234.32423 | D11: =45940*B11 -> 422.1886 | E11: =D11-C11 -> 187.86437 | H11: =C11+F11 -> 234.32423 | I11: =D11+G11 -> 422.1886
A12: Vall Gran 7 | B12: 0.00919 | C12: =25497.74*B12 -> 234.32423 | D12: =45940*B12 -> 422.1886 | E12: =D12-C12 -> 187.86437 | H12: =C12+F12 -> 234.32423 | I12: =D12+G12 -> 422.1886
A13: Vall Gran 8 | B13: 0.00919 | C13: =25497.74*B13 -> 234.32423 | D13: =45940*B13 -> 422.1886 | E13: =D13-C13 -> 187.86437 | H13: =C13+F13 -> 234.32423 | I13: =D13+G13 -> 422.1886
A14: Vall Gran 9 | B14: 0.00919 | C14: =25497.74*B14 -> 234.32423 | D14: =45940*B14 -> 422.1886 | E14: =D14-C14 -> 187.86437 | H14: =C14+F14 -> 234.32423 | I14: =D14+G14 -> 422.1886
A15: Vall Gran 10 | B15: 0.00919 | C15: =25497.74*B15 -> 234.32423 | D15: =45940*B15 -> 422.1886 | E15: =D15-C15 -> 187.86437 | H15: =C15+F15 -> 234.32423 | I15: =D15+G15 -> 422.1886
A16: Vall Gran 11 | B16: 0.00919 | C16: =25497.74*B16 -> 234.32423 | D16: =45940*B16 -> 422.1886 | E16: =D16-C16 -> 187.86437 | H16: =C16+F16 -> 234.32423 | I16: =D16+G16 -> 422.1886
A17: Vall Gran 12 | B17: 0.00919 | C17: =25497.74*B17 -> 234.32423 | D17: =45940*B17 -> 422.1886 | E17: =D17-C17 -> 187.86437 | H17: =C17+F17 -> 234.32423 | I17: =D17+G17 -> 422.1886
... A34: Vall Gran 29 | B34: 0.00919 | C34: =25497.74*B34 -> 234.32423 | D34: =45940*B34 -> 422.1886 | E34: =D34-C34 -> 187.86437 | H34: =C34+F34 -> 234.32423 | I34: =D34+G34 -> 422.1886
A35: Capelles 30 | B35: 0.00697 | C35: =25497.74*B35 -> 177.71925 | D35: =45940*B35 -> 320.2018 | E35: =D35-C35 -> 142.48255 | F35: =G167 -> 104.37 | G35: =F35*1.8017 -> 188.04343 | H35: =C35+F35 -> 282.08925 | I35: =D35+G35 -> 508.24523
A36: Capelles 31 | B36: 0.00697 | C36: =25497.74*B36 -> 177.71925 | D36: =45940*B36 -> 320.2018 | E36: =D36-C36 -> 142.48255 | F36: =G168 -> 411.99 | G36: =F36*1.8017 -> 742.28238 | H36: =C36+F36 -> 589.70925 | I36: =D36+G36 -> 1062.4842
A37: Capelles 32 | B37: 0.00697 | C37: =25497.74*B37 -> 177.71925 | D37: =45940*B37 -> 320.2018 | E37: =D37-C37 -> 142.48255 | F37: =G169 -> 411.99 | G37: =F37*1.8017 -> 742.28238 | H37: =C37+F37 -> 589.70925 | I37: =D37+G37 -> 1062.4842
A38: Capelles 33 | B38: 0.00697 | C38: =25497.74*B38 -> 177.71925 | D38: =45940*B38 -> 320.2018 | E38: =D38-C38 -> 142.48255 | F38: =G170 -> 411.99 | G38: =F38*1.8017 -> 742.28238 | H38: =C38+F38 -> 589.70925 | I38: =D38+G38 -> 1062.4842
A39: Capelles 34 | B39: 0.00697 | C39: =25497.74*B39 -> 177.71925 | D39: =45940*B39 -> 320.2018 | E39: =D39-C39 -> 142.48255 | F39: =G171 -> 104.37 | G39: =F39*1.8017 -> 188.04343 | H39: =C39+F39 -> 282.08925 | I39: =D39+G39 -> 508.24523
A40: Capelles 35 | B40: 0.00713 | C40: =25497.74*B40 -> 181.79889 | D40: =45940*B40 -> 327.5522 | E40: =D40-C40 -> 145.75331 | F40: =G172 -> 411.99 | G40: =F40*1.8017 -> 742.28238 | H40: =C40+F40 -> 593.78889 | I40: =D40+G40 -> 1069.8346
A41: Capelles 36 | B41: 0.00713 | C41: =25497.74*B41 -> 181.79889 | D41: =45940*B41 -> 327.5522 | E41: =D41-C41 -> 145.75331 | F41: =G173 -> 104.37 | G41: =F41*1.8017 -> 188.04343 | H41: =C41+F41 -> 286.16889 | I41: =D41+G41 -> 515.59563
A42: Capelles 37 | B42: 0.00697 | C42: =25497.74*B42 -> 177.71925 | D42: =45940*B42 -> 320.2018 | E42: =D42-C42 -> 142.48255 | F42: =G174 -> 411.99 | G42: =F42*1.8017 -> 742.28238 | H42: =C42+F42 -> 589.70925 | I42: =D42+G42 -> 1062.4842
A43: Capelles 38 | B43: 0.00697 | C43: =25497.74*B43 -> 177.71925 | D43: =45940*B43 -> 320.2018 | E43: =D43-C43 -> 142.48255 | F43: =G175 -> 411.99 | G43: =F43*1.8017 -> 742.28238 | H43: =C43+F43 -> 589.70925 | I43: =D43+G43 -> 1062.4842
A44: Capelles 39 | B44: 0.00697 | C44: =25497.74*B44 -> 177.71925 | D44: =45940*B44 -> 320.2018 | E44: =D44-C44 -> 142.48255 | F44: =G176 -> 411.99 | G44: =F44*1.8017 -> 742.28238 | H44: =C44+F44 -> 589.70925 | I44: =D44+G44 -> 1062.4842
A45: Capelles 40 | B45: 0.00697 | C45: =25497.74*B45 -> 177.71925 | D45: =45940*B45 -> 320.2018 | E45: =D45-C45 -> 142.48255 | F45: =G177 -> 411.99 | G45: =F45*1.8017 -> 742.28238 | H45: =C45+F45 -> 589.70925 | I45: =D45+G45 -> 1062.4842
A46: Capelles 41 | B46: 0.00697 | C46: =25497.74*B46 -> 177.71925 | D46: =45940*B46 -> 320.2018 | E46: =D46-C46 -> 142.48255 | F46: =G178 -> 411.99 | G46: =F46*1.8017 -> 742.28238 | H46: =C46+F46 -> 589.70925 | I46: =D46+G46 -> 1062.4842
... A76: Vall Petita 71 | B76: 0.00539 | C76: =25497.74*B76 -> 137.43282 | D76: =45940*B76 -> 247.6166 | E76: =D76-C76 -> 110.18378 | F76: =G208 -> 66.43 | G76: =F76*1.8017 -> 119.68693 | H76: =C76+F76 -> 203.86282 | I76: =D76+G76 -> 367.30353
A77: Vall Petita 72 | B77: 0.00539 | C77: =25497.74*B77 -> 137.43282 | D77: =45940*B77 -> 247.6166 | E77: =D77-C77 -> 110.18378 | H77: =C77+F77 -> 137.43282 | I77: =D77+G77 -> 247.6166
A78: Vall Petita 73 | B78: 0.00546 | C78: =25497.74*B78 -> 139.21766 | D78: =45940*B78 -> 250.8324 | E78: =D78-C78 -> 111.61474 | H78: =C78+F78 -> 139.21766 | I78: =D78+G78 -> 250.8324
A79: STC 74 | B79: 0.00982 | C79: =25497.74*B79 -> 250.38781 | D79: =45940*B79 -> 451.1308 | E79: =D79-C79 -> 200.74299 | H79: =C79+F79 -> 250.38781 | I79: =D79+G79 -> 451.1308
A80: STC 75 | B80: 0.01639 | C80: =25497.74*B80 -> 417.90796 | D80: =45940*B80 -> 752.9566 | E80: =D80-C80 -> 335.04864 | H80: =C80+F80 -> 417.90796 | I80: =D80+G80 -> 752.9566
A81: GA 76 | B81: 0.00663 | C81: =25497.74*B81 -> 169.05002 | D81: =45940*B81 -> 304.5822 | E81: =D81-C81 -> 135.53218 | F81: =G209 -> 46.03 | G81: =F81*1.8017 -> 82.932251 | H81: =C81+F81 -> 215.08002 | I81: =D81+G81 -> 387.51445
A82: GA 77 | B82: 0.00663 | C82: =25497.74*B82 -> 169.05002 | D82: =45940*B82 -> 304.5822 | E82: =D82-C82 -> 135.53218 | F82: =G210 -> 46.03 | G82: =F82*1.8017 -> 82.932251 | H82: =C82+F82 -> 215.08002 | I82: =D82+G82 -> 387.51445
A83: GA 78 | B83: 0.00663 | C83: =25497.74*B83 -> 169.05002 | D83: =45940*B83 -> 304.5822 | E83: =D83-C83 -> 135.53218 | F83: =G211 -> 46.03 | G83: =F83*1.8017 -> 82.932251 | H83: =C83+F83 -> 215.08002 | I83: =D83+G83 -> 387.51445
A84: GA 79 | B84: 0.00663 | C84: =25497.74*B84 -> 169.05002 | D84: =45940*B84 -> 304.5822 | E84: =D84-C84 -> 135.53218 | F84: =G212 -> 46.03 | G84: =F84*1.8017 -> 82.932251 | H84: =C84+F84 -> 215.08002 | I84: =D84+G84 -> 387.51445
A85: GA 80 | B85: 0.00663 | C85: =25497.74*B85 -> 169.05002 | D85: =45940*B85 -> 304.5822 | E85: =D85-C85 -> 135.53218 | F85: =G213 -> 46.03 | G85: =F85*1.8017 -> 82.932251 | H85: =C85+F85 -> 215.08002 | I85: =D85+G85 -> 387.51445
A86: GA 81 | B86: 0.00663 | C86: =25497.74*B86 -> 169.05002 | D86: =45940*B86 -> 304.5822 | E86: =D86-C86 -> 135.53218 | F86: =G214 -> 46.03 | G86: =F86*1.8017 -> 82.932251 | H86: =C86+F86 -> 215.08002 | I86: =D86+G86 -> 387.51445
A87: GA 82 | B87: 0.00663 | C87: =25497.74*B87 -> 169.05002 | D87: =45940*B87 -> 304.5822 | E87: =D87-C87 -> 135.53218 | F87: =G215 -> 46.03 | G87: =F87*1.8017 -> 82.932251 | H87: =C87+F87 -> 215.08002 | I87: =D87+G87 -> 387.51445
...

Sheet Can Montes 
A2: Can Montes jardineria 2027 Presupuesto
A3: Precio total comunitario y privativos.
A4: Precio 70538,16 € por toda la comunidad
A5: El precio Incluye podas varias y trabajos varios dentro de un horario anual. Direccion de obra y asesoria / consultoria de jardineria. Control de riegos remotamente y localizacion de averias. Ver oferta tecnica
A7: Reparto costes: | C7: 70,538,16 €
A8: Jardines comunitarios | C8: 0.56533 | D8: 39877.38
A9: Jardines privativos | C9: 0.43467 | D9: 30660.82
A10: Suma | C10: =SUM(C8:C9) -> 1 | D10: =SUM(D8:D9) -> 70538.2
C12: 25497.79 | D12: 39877.38
A13: Departament | B13: Multiplicador coeficientes | C13: Precio /Cuota pagada jardineria Comunitaria 2026 con segunda poda incluida | D13: Precio /Cuota presupuesto + jardineria Comunitaria 2027 con segunda poda incluida. | E13: Diferencia de mas por casa jardineria comunitaria | F13: Cuota 2025 / 2026 Pagada jardineria privativa | G13: Cuota a pagar teoricamente aumento 56,388% Jardineria privativa. | H13: La suma de lo pagado comunidad finalmente en 2025-2026 de jardineria Emporda | I13: Lo que pagaria ahora año 2027 comunidad Jardineria Can Montes aumento 56,388% | J13: ='Presupuesto Emporda'!I5 -> Lo que pagara ahora año 2027 Jardineria Emporda aumento 80,17% | K13: Diferencia economica a favor de Can Montes
A14: Vall Gran 1 | B14: 0.00919 | C14: =25497.74*B14 -> 234.32423 | D14: =39877.38*B14 -> 366.47312 | E14: =D14-C14 -> 132.14889 | H14: =C14+F14 -> 234.32423 | I14: =D14+G14 -> 366.47312 | J14: ='Presupuesto Emporda'!I6 -> 422.1886 | K14: =I14-J14 -> -55.715478
A15: Vall Gran 2 | B15: 0.00919 | C15: =25497.74*B15 -> 234.32423 | D15: =39877.38*B15 -> 366.47312 | E15: =D15-C15 -> 132.14889 | H15: =C15+F15 -> 234.32423 | I15: =D15+G15 -> 366.47312 | J15: ='Presupuesto Emporda'!I7 -> 422.1886 | K15: =I15-J15 -> -55.715478
A16: Vall Gran 3 | B16: 0.00919 | C16: =25497.74*B16 -> 234.32423 | D16: =39877.38*B16 -> 366.47312 | E16: =D16-C16 -> 132.14889 | H16: =C16+F16 -> 234.32423 | I16: =D16+G16 -> 366.47312 | J16: ='Presupuesto Emporda'!I8 -> 422.1886 | K16: =I16-J16 -> -55.715478
A17: Vall Gran 4 | B17: 0.00919 | C17: =25497.74*B17 -> 234.32423 | D17: =39877.38*B17 -> 366.47312 | E17: =D17-C17 -> 132.14889 | H17: =C17+F17 -> 234.32423 | I17: =D17+G17 -> 366.47312 | J17: ='Presupuesto Emporda'!I9 -> 422.1886 | K17: =I17-J17 -> -55.715478
A18: Vall Gran 5 | B18: 0.00919 | C18: =25497.74*B18 -> 234.32423 | D18: =39877.38*B18 -> 366.47312 | E18: =D18-C18 -> 132.14889 | H18: =C18+F18 -> 234.32423 | I18: =D18+G18 -> 366.47312 | J18: ='Presupuesto Emporda'!I10 -> 422.1886 | K18: =I18-J18 -> -55.715478
A19: Vall Gran 6 | B19: 0.00919 | C19: =25497.74*B19 -> 234.32423 | D19: =39877.38*B19 -> 366.47312 | E19: =D19-C19 -> 132.14889 | H19: =C19+F19 -> 234.32423 | I19: =D19+G19 -> 366.47312 | J19: ='Presupuesto Emporda'!I11 -> 422.1886 | K19: =I19-J19 -> -55.715478
A20: Vall Gran 7 | B20: 0.00919 | C20: =25497.74*B20 -> 234.32423 | D20: =39877.38*B20 -> 366.47312 | E20: =D20-C20 -> 132.14889 | H20: =C20+F20 -> 234.32423 | I20: =D20+G20 -> 366.47312 | J20: ='Presupuesto Emporda'!I12 -> 422.1886 | K20: =I20-J20 -> -55.715478
A21: Vall Gran 8 | B21: 0.00919 | C21: =25497.74*B21 -> 234.32423 | D21: =39877.38*B21 -> 366.47312 | E21: =D21-C21 -> 132.14889 | H21: =C21+F21 -> 234.32423 | I21: =D21+G21 -> 366.47312 | J21: ='Presupuesto Emporda'!I13 -> 422.1886 | K21: =I21-J21 -> -55.715478
A22: Vall Gran 9 | B22: 0.00919 | C22: =25497.74*B22 -> 234.32423 | D22: =39877.38*B22 -> 366.47312 | E22: =D22-C22 -> 132.14889 | H22: =C22+F22 -> 234.32423 | I22: =D22+G22 -> 366.47312 | J22: ='Presupuesto Emporda'!I14 -> 422.1886 | K22: =I22-J22 -> -55.715478
A23: Vall Gran 10 | B23: 0.00919 | C23: =25497.74*B23 -> 234.32423 | D23: =39877.38*B23 -> 366.47312 | E23: =D23-C23 -> 132.14889 | H23: =C23+F23 -> 234.32423 | I23: =D23+G23 -> 366.47312 | J23: ='Presupuesto Emporda'!I15 -> 422.1886 | K23: =I23-J23 -> -55.715478
A24: Vall Gran 11 | B24: 0.00919 | C24: =25497.74*B24 -> 234.32423 | D24: =39877.38*B24 -> 366.47312 | E24: =D24-C24 -> 132.14889 | H24: =C24+F24 -> 234.32423 | I24: =D24+G24 -> 366.47312 | J24: ='Presupuesto Emporda'!I16 -> 422.1886 | K24: =I24-J24 -> -55.715478
A25: Vall Gran 12 | B25: 0.00919 | C25: =25497.74*B25 -> 234.32423 | D25: =39877.38*B25 -> 366.47312 | E25: =D25-C25 -> 132.14889 | H25: =C25+F25 -> 234.32423 | I25: =D25+G25 -> 366.47312 | J25: ='Presupuesto Emporda'!I17 -> 422.1886 | K25: =I25-J25 -> -55.715478
... A42: Vall Gran 29 | B42: 0.00919 | C42: =25497.74*B42 -> 234.32423 | D42: =39877.38*B42 -> 366.47312 | E42: =D42-C42 -> 132.14889 | H42: =C42+F42 -> 234.32423 | I42: =D42+G42 -> 366.47312 | J42: ='Presupuesto Emporda'!I34 -> 422.1886 | K42: =I42-J42 -> -55.715478
A43: Capelles 30 | B43: 0.00697 | C43: =25497.74*B43 -> 177.71925 | D43: =39877.38*B43 -> 277.94534 | E43: =D43-C43 -> 100.22609 | F43: =G175 -> 104.37 | G43: =F43*1.56388 -> 163.22216 | H43: =C43+F43 -> 282.08925 | I43: =D43+G43 -> 441.16749 | J43: ='Presupuesto Emporda'!I35 -> 508.24523 | K43: =I43-J43 -> -67.077735
A44: Capelles 31 | B44: 0.00697 | C44: =25497.74*B44 -> 177.71925 | D44: =39877.38*B44 -> 277.94534 | E44: =D44-C44 -> 100.22609 | F44: =G176 -> 411.99 | G44: =F44*1.56388 -> 644.30292 | H44: =C44+F44 -> 589.70925 | I44: =D44+G44 -> 922.24826 | J44: ='Presupuesto Emporda'!I36 -> 1062.4842 | K44: =I44-J44 -> -140.23592
A45: Capelles 32 | B45: 0.00697 | C45: =25497.74*B45 -> 177.71925 | D45: =39877.38*B45 -> 277.94534 | E45: =D45-C45 -> 100.22609 | F45: =G177 -> 411.99 | G45: =F45*1.56388 -> 644.30292 | H45: =C45+F45 -> 589.70925 | I45: =D45+G45 -> 922.24826 | J45: ='Presupuesto Emporda'!I37 -> 1062.4842 | K45: =I45-J45 -> -140.23592
A46: Capelles 33 | B46: 0.00697 | C46: =25497.74*B46 -> 177.71925 | D46: =39877.38*B46 -> 277.94534 | E46: =D46-C46 -> 100.22609 | F46: =G178 -> 411.99 | G46: =F46*1.56388 -> 644.30292 | H46: =C46+F46 -> 589.70925 | I46: =D46+G46 -> 922.24826 | J46: ='Presupuesto Emporda'!I38 -> 1062.4842 | K46: =I46-J46 -> -140.23592
A47: Capelles 34 | B47: 0.00697 | C47: =25497.74*B47 -> 177.71925 | D47: =39877.38*B47 -> 277.94534 | E47: =D47-C47 -> 100.22609 | F47: =G179 -> 104.37 | G47: =F47*1.56388 -> 163.22216 | H47: =C47+F47 -> 282.08925 | I47: =D47+G47 -> 441.16749 | J47: ='Presupuesto Emporda'!I39 -> 508.24523 | K47: =I47-J47 -> -67.077735
A48: Capelles 35 | B48: 0.00713 | C48: =25497.74*B48 -> 181.79889 | D48: =39877.38*B48 -> 284.32572 | E48: =D48-C48 -> 102.52683 | F48: =G180 -> 411.99 | G48: =F48*1.56388 -> 644.30292 | H48: =C48+F48 -> 593.78889 | I48: =D48+G48 -> 928.62864 | J48: ='Presupuesto Emporda'!I40 -> 1069.8346 | K48: =I48-J48 -> -141.20594
A49: Capelles 36 | B49: 0.00713 | C49: =25497.74*B49 -> 181.79889 | D49: =39877.38*B49 -> 284.32572 | E49: =D49-C49 -> 102.52683 | F49: =G181 -> 104.37 | G49: =F49*1.56388 -> 163.22216 | H49: =C49+F49 -> 286.16889 | I49: =D49+G49 -> 447.54787 | J49: ='Presupuesto Emporda'!I41 -> 515.59563 | K49: =I49-J49 -> -68.047754
A50: Capelles 37 | B50: 0.00697 | C50: =25497.74*B50 -> 177.71925 | D50: =39877.38*B50 -> 277.94534 | E50: =D50-C50 -> 100.22609 | F50: =G182 -> 411.99 | G50: =F50*1.56388 -> 644.30292 | H50: =C50+F50 -> 589.70925 | I50: =D50+G50 -> 922.24826 | J50: ='Presupuesto Emporda'!I42 -> 1062.4842 | K50: =I50-J50 -> -140.23592
A51: Capelles 38 | B51: 0.00697 | C51: =25497.74*B51 -> 177.71925 | D51: =39877.38*B51 -> 277.94534 | E51: =D51-C51 -> 100.22609 | F51: =G183 -> 411.99 | G51: =F51*1.56388 -> 644.30292 | H51: =C51+F51 -> 589.70925 | I51: =D51+G51 -> 922.24826 | J51: ='Presupuesto Emporda'!I43 -> 1062.4842 | K51: =I51-J51 -> -140.23592
A52: Capelles 39 | B52: 0.00697 | C52: =25497.74*B52 -> 177.71925 | D52: =39877.38*B52 -> 277.94534 | E52: =D52-C52 -> 100.22609 | F52: =G184 -> 411.99 | G52: =F52*1.56388 -> 644.30292 | H52: =C52+F52 -> 589.70925 | I52: =D52+G52 -> 922.24826 | J52: ='Presupuesto Emporda'!I44 -> 1062.4842 | K52: =I52-J52 -> -140.23592
A53: Capelles 40 | B53: 0.00697 | C53: =25497.74*B53 -> 177.71925 | D53: =39877.38*B53 -> 277.94534 | E53: =D53-C53 -> 100.22609 | F53: =G185 -> 411.99 | G53: =F53*1.56388 -> 644.30292 | H53: =C53+F53 -> 589.70925 | I53: =D53+G53 -> 922.24826 | J53: ='Presupuesto Emporda'!I45 -> 1062.4842 | K53: =I53-J53 -> -140.23592
A54: Capelles 41 | B54: 0.00697 | C54: =25497.74*B54 -> 177.71925 | D54: =39877.38*B54 -> 277.94534 | E54: =D54-C54 -> 100.22609 | F54: =G186 -> 411.99 | G54: =F54*1.56388 -> 644.30292 | H54: =C54+F54 -> 589.70925 | I54: =D54+G54 -> 922.24826 | J54: ='Presupuesto Emporda'!I46 -> 1062.4842 | K54: =I54-J54 -> -140.23592
... A84: Vall Petita 71 | B84: 0.00539 | C84: =25497.74*B84 -> 137.43282 | D84: =39877.38*B84 -> 214.93908 | E84: =D84-C84 -> 77.50626 | F84: =G216 -> 66.43 | G84: =F84*1.56388 -> 103.88855 | H84: =C84+F84 -> 203.86282 | I84: =D84+G84 -> 318.82763 | J84: ='Presupuesto Emporda'!I76 -> 367.30353 | K84: =I84-J84 -> -48.475904
A85: Vall Petita 72 | B85: 0.00539 | C85: =25497.74*B85 -> 137.43282 | D85: =39877.38*B85 -> 214.93908 | E85: =D85-C85 -> 77.50626 | H85: =C85+F85 -> 137.43282 | I85: =D85+G85 -> 214.93908 | J85: ='Presupuesto Emporda'!I77 -> 247.6166 | K85: =I85-J85 -> -32.677522
A86: Vall Petita 73 | B86: 0.00546 | C86: =25497.74*B86 -> 139.21766 | D86: =39877.38*B86 -> 217.73049 | E86: =D86-C86 -> 78.512834 | H86: =C86+F86 -> 139.21766 | I86: =D86+G86 -> 217.73049 | J86: ='Presupuesto Emporda'!I78 -> 250.8324 | K86: =I86-J86 -> -33.101905
A87: STC 74 | B87: 0.00982 | C87: =25497.74*B87 -> 250.38781 | D87: =39877.38*B87 -> 391.59587 | E87: =D87-C87 -> 141.20806 | H87: =C87+F87 -> 250.38781 | I87: =D87+G87 -> 391.59587 | J87: ='Presupuesto Emporda'!I79 -> 451.1308 | K87: =I87-J87 -> -59.534928
A88: STC 75 | B88: 0.01639 | C88: =25497.74*B88 -> 417.90796 | D88: =39877.38*B88 -> 653.59026 | E88: =D88-C88 -> 235.6823 | H88: =C88+F88 -> 417.90796 | I88: =D88+G88 -> 653.59026 | J88: ='Presupuesto Emporda'!I80 -> 752.9566 | K88: =I88-J88 -> -99.366342
...

Sheet Refundido 2  presp.
A2: Jardineria Emporda y Jardineria Can Montes comparativa precios por casa refundido jardineria comunitaria
B4: Importes: | C4: 25497.79 | D4: 45940 | J4: 39877.38
A5: Departament | B5: Multiplicador coeficientes | C5: Importe ya pagado jardineria Comunitaria 2025 - 2026 con segunda poda incluida | D5: Lo que pagaria ahora con el presupuesto año 2027 Jardineria Emporda con aumento del 80,17% | E5: Diferencia de mas por casa jardineria comunitaria | F5: Cuota 2025 / 2026 Pagada jardineria privativa | G5: Cuota a pagar teoricamente aumento 80,17% Jardineria privativa. | H5: La suma de lo pagado finalmente en 2025-2026 de jardineria Emporda | I5: Lo que pagaria ahora con el presupuesto año 2027 Jardineria Emporda con aumento del 80,17% | J5: Lo que pagaria ahora con el presupuesto año 2027 Jardineria Can Montes con aumento del 56,388%
A6: Vall Gran 1 | B6: 0.00919 | C6: =25497.74*B6 -> 234.32423 | D6: =45940*B6 -> 422.1886 | E6: =D6-C6 -> 187.86437 | H6: =C6+F6 -> 234.32423 | I6: =D6+G6 -> 422.1886 | J6: =39877.36*B6 -> 366.47294
A7: Vall Gran 2 | B7: 0.00919 | C7: =25497.74*B7 -> 234.32423 | D7: =45940*B7 -> 422.1886 | E7: =D7-C7 -> 187.86437 | H7: =C7+F7 -> 234.32423 | I7: =D7+G7 -> 422.1886 | J7: =39877.36*B7 -> 366.47294
A8: Vall Gran 3 | B8: 0.00919 | C8: =25497.74*B8 -> 234.32423 | D8: =45940*B8 -> 422.1886 | E8: =D8-C8 -> 187.86437 | H8: =C8+F8 -> 234.32423 | I8: =D8+G8 -> 422.1886 | J8: =39877.36*B8 -> 366.47294
A9: Vall Gran 4 | B9: 0.00919 | C9: =25497.74*B9 -> 234.32423 | D9: =45940*B9 -> 422.1886 | E9: =D9-C9 -> 187.86437 | H9: =C9+F9 -> 234.32423 | I9: =D9+G9 -> 422.1886 | J9: =39877.36*B9 -> 366.47294
A10: Vall Gran 5 | B10: 0.00919 | C10: =25497.74*B10 -> 234.32423 | D10: =45940*B10 -> 422.1886 | E10: =D10-C10 -> 187.86437 | H10: =C10+F10 -> 234.32423 | I10: =D10+G10 -> 422.1886 | J10: =39877.36*B10 -> 366.47294
A11: Vall Gran 6 | B11: 0.00919 | C11: =25497.74*B11 -> 234.32423 | D11: =45940*B11 -> 422.1886 | E11: =D11-C11 -> 187.86437 | H11: =C11+F11 -> 234.32423 | I11: =D11+G11 -> 422.1886 | J11: =39877.36*B11 -> 366.47294
A12: Vall Gran 7 | B12: 0.00919 | C12: =25497.74*B12 -> 234.32423 | D12: =45940*B12 -> 422.1886 | E12: =D12-C12 -> 187.86437 | H12: =C12+F12 -> 234.32423 | I12: =D12+G12 -> 422.1886 | J12: =39877.36*B12 -> 366.47294
A13: Vall Gran 8 | B13: 0.00919 | C13: =25497.74*B13 -> 234.32423 | D13: =45940*B13 -> 422.1886 | E13: =D13-C13 -> 187.86437 | H13: =C13+F13 -> 234.32423 | I13: =D13+G13 -> 422.1886 | J13: =39877.36*B13 -> 366.47294
A14: Vall Gran 9 | B14: 0.00919 | C14: =25497.74*B14 -> 234.32423 | D14: =45940*B14 -> 422.1886 | E14: =D14-C14 -> 187.86437 | H14: =C14+F14 -> 234.32423 | I14: =D14+G14 -> 422.1886 | J14: =39877.36*B14 -> 366.47294
A15: Vall Gran 10 | B15: 0.00919 | C15: =25497.74*B15 -> 234.32423 | D15: =45940*B15 -> 422.1886 | E15: =D15-C15 -> 187.86437 | H15: =C15+F15 -> 234.32423 | I15: =D15+G15 -> 422.1886 | J15: =39877.36*B15 -> 366.47294
A16: Vall Gran 11 | B16: 0.00919 | C16: =25497.74*B16 -> 234.32423 | D16: =45940*B16 -> 422.1886 | E16: =D16-C16 -> 187.86437 | H16: =C16+F16 -> 234.32423 | I16: =D16+G16 -> 422.1886 | J16: =39877.36*B16 -> 366.47294
A17: Vall Gran 12 | B17: 0.00919 | C17: =25497.74*B17 -> 234.32423 | D17: =45940*B17 -> 422.1886 | E17: =D17-C17 -> 187.86437 | H17: =C17+F17 -> 234.32423 | I17: =D17+G17 -> 422.1886 | J17: =39877.36*B17 -> 366.47294
... A34: Vall Gran 29 | B34: 0.00919 | C34: =25497.74*B34 -> 234.32423 | D34: =45940*B34 -> 422.1886 | E34: =D34-C34 -> 187.86437 | H34: =C34+F34 -> 234.32423 | I34: =D34+G34 -> 422.1886 | J34: =39877.36*B34 -> 366.47294
A35: Capelles 30 | B35: 0.00697 | C35: =25497.74*B35 -> 177.71925 | D35: =45940*B35 -> 320.2018 | E35: =D35-C35 -> 142.48255 | F35: =G172 -> 0 | G35: =F35*1.8017 -> 0 | H35: =C35+F35 -> 177.71925 | I35: =D35+G35 -> 320.2018 | J35: =39877.36*B35 -> 277.9452
A36: Capelles 31 | B36: 0.00697 | C36: =25497.74*B36 -> 177.71925 | D36: =45940*B36 -> 320.2018 | E36: =D36-C36 -> 142.48255 | F36: =G173 -> 0 | G36: =F36*1.8017 -> 0 | H36: =C36+F36 -> 177.71925 | I36: =D36+G36 -> 320.2018 | J36: =39877.36*B36 -> 277.9452
A37: Capelles 32 | B37: 0.00697 | C37: =25497.74*B37 -> 177.71925 | D37: =45940*B37 -> 320.2018 | E37: =D37-C37 -> 142.48255 | F37: =G174 -> 0 | G37: =F37*1.8017 -> 0 | H37: =C37+F37 -> 177.71925 | I37: =D37+G37 -> 320.2018 | J37: =39877.36*B37 -> 277.9452
A38: Capelles 33 | B38: 0.00697 | C38: =25497.74*B38 -> 177.71925 | D38: =45940*B38 -> 320.2018 | E38: =D38-C38 -> 142.48255 | F38: =G175 -> 0 | G38: =F38*1.8017 -> 0 | H38: =C38+F38 -> 177.71925 | I38: =D38+G38 -> 320.2018 | J38: =39877.36*B38 -> 277.9452
A39: Capelles 34 | B39: 0.00697 | C39: =25497.74*B39 -> 177.71925 | D39: =45940*B39 -> 320.2018 | E39: =D39-C39 -> 142.48255 | F39: =G176 -> 0 | G39: =F39*1.8017 -> 0 | H39: =C39+F39 -> 177.71925 | I39: =D39+G39 -> 320.2018 | J39: =39877.36*B39 -> 277.9452
A40: Capelles 35 | B40: 0.00713 | C40: =25497.74*B40 -> 181.79889 | D40: =45940*B40 -> 327.5522 | E40: =D40-C40 -> 145.75331 | F40: =G177 -> 0 | G40: =F40*1.8017 -> 0 | H40: =C40+F40 -> 181.79889 | I40: =D40+G40 -> 327.5522 | J40: =39877.36*B40 -> 284.32558
A41: Capelles 36 | B41: 0.00713 | C41: =25497.74*B41 -> 181.79889 | D41: =45940*B41 -> 327.5522 | E41: =D41-C41 -> 145.75331 | F41: =G178 -> 0 | G41: =F41*1.8017 -> 0 | H41: =C41+F41 -> 181.79889 | I41: =D41+G41 -> 327.5522 | J41: =39877.36*B41 -> 284.32558
A42: Capelles 37 | B42: 0.00697 | C42: =25497.74*B42 -> 177.71925 | D42: =45940*B42 -> 320.2018 | E42: =D42-C42 -> 142.48255 | F42: =G179 -> 0 | G42: =F42*1.8017 -> 0 | H42: =C42+F42 -> 177.71925 | I42: =D42+G42 -> 320.2018 | J42: =39877.36*B42 -> 277.9452
A43: Capelles 38 | B43: 0.00697 | C43: =25497.74*B43 -> 177.71925 | D43: =45940*B43 -> 320.2018 | E43: =D43-C43 -> 142.48255 | F43: =G180 -> 0 | G43: =F43*1.8017 -> 0 | H43: =C43+F43 -> 177.71925 | I43: =D43+G43 -> 320.2018 | J43: =39877.36*B43 -> 277.9452
A44: Capelles 39 | B44: 0.00697 | C44: =25497.74*B44 -> 177.71925 | D44: =45940*B44 -> 320.2018 | E44: =D44-C44 -> 142.48255 | F44: =G181 -> 0 | G44: =F44*1.8017 -> 0 | H44: =C44+F44 -> 177.71925 | I44: =D44+G44 -> 320.2018 | J44: =39877.36*B44 -> 277.9452
A45: Capelles 40 | B45: 0.00697 | C45: =25497.74*B45 -> 177.71925 | D45: =45940*B45 -> 320.2018 | E45: =D45-C45 -> 142.48255 | F45: =G182 -> 0 | G45: =F45*1.8017 -> 0 | H45: =C45+F45 -> 177.71925 | I45: =D45+G45 -> 320.2018 | J45: =39877.36*B45 -> 277.9452
A46: Capelles 41 | B46: 0.00697 | C46: =25497.74*B46 -> 177.71925 | D46: =45940*B46 -> 320.2018 | E46: =D46-C46 -> 142.48255 | F46: =G183 -> 0 | G46: =F46*1.8017 -> 0 | H46: =C46+F46 -> 177.71925 | I46: =D46+G46 -> 320.2018 | J46: =39877.36*B46 -> 277.9452
... A76: Vall Petita 71 | B76: 0.00539 | C76: =25497.74*B76 -> 137.43282 | D76: =45940*B76 -> 247.6166 | E76: =D76-C76 -> 110.18378 | F76: =G213 -> 0 | G76: =F76*1.8017 -> 0 | H76: =C76+F76 -> 137.43282 | I76: =D76+G76 -> 247.6166 | J76: =39877.36*B76 -> 214.93897
A77: Vall Petita 72 | B77: 0.00539 | C77: =25497.74*B77 -> 137.43282 | D77: =45940*B77 -> 247.6166 | E77: =D77-C77 -> 110.18378 | H77: =C77+F77 -> 137.43282 | I77: =D77+G77 -> 247.6166 | J77: =39877.36*B77 -> 214.93897
A78: Vall Petita 73 | B78: 0.00546 | C78: =25497.74*B78 -> 139.21766 | D78: =45940*B78 -> 250.8324 | E78: =D78-C78 -> 111.61474 | H78: =C78+F78 -> 139.21766 | I78: =D78+G78 -> 250.8324 | J78: =39877.36*B78 -> 217.73039
A79: STC 74 | B79: 0.00982 | C79: =25497.74*B79 -> 250.38781 | D79: =45940*B79 -> 451.1308 | E79: =D79-C79 -> 200.74299 | H79: =C79+F79 -> 250.38781 | I79: =D79+G79 -> 451.1308 | J79: =39877.36*B79 -> 391.59568
A80: STC 75 | B80: 0.01639 | C80: =25497.74*B80 -> 417.90796 | D80: =45940*B80 -> 752.9566 | E80: =D80-C80 -> 335.04864 | H80: =C80+F80 -> 417.90796 | I80: =D80+G80 -> 752.9566 | J80: =39877.36*B80 -> 653.58993
A81: GA 76 | B81: 0.00663 | C81: =25497.74*B81 -> 169.05002 | D81: =45940*B81 -> 304.5822 | E81: =D81-C81 -> 135.53218 | F81: =G214 -> 0 | G81: =F81*1.8017 -> 0 | H81: =C81+F81 -> 169.05002 | I81: =D81+G81 -> 304.5822 | J81: =39877.36*B81 -> 264.3869
A82: GA 77 | B82: 0.00663 | C82: =25497.74*B82 -> 169.05002 | D82: =45940*B82 -> 304.5822 | E82: =D82-C82 -> 135.53218 | F82: =G215 -> 0 | G82: =F82*1.8017 -> 0 | H82: =C82+F82 -> 169.05002 | I82: =D82+G82 -> 304.5822 | J82: =39877.36*B82 -> 264.3869
A83: GA 78 | B83: 0.00663 | C83: =25497.74*B83 -> 169.05002 | D83: =45940*B83 -> 304.5822 | E83: =D83-C83 -> 135.53218 | F83: =G216 -> 0 | G83: =F83*1.8017 -> 0 | H83: =C83+F83 -> 169.05002 | I83: =D83+G83 -> 304.5822 | J83: =39877.36*B83 -> 264.3869
A84: GA 79 | B84: 0.00663 | C84: =25497.74*B84 -> 169.05002 | D84: =45940*B84 -> 304.5822 | E84: =D84-C84 -> 135.53218 | F84: =G217 -> 0 | G84: =F84*1.8017 -> 0 | H84: =C84+F84 -> 169.05002 | I84: =D84+G84 -> 304.5822 | J84: =39877.36*B84 -> 264.3869
A85: GA 80 | B85: 0.00663 | C85: =25497.74*B85 -> 169.05002 | D85: =45940*B85 -> 304.5822 | E85: =D85-C85 -> 135.53218 | F85: =G218 -> 0 | G85: =F85*1.8017 -> 0 | H85: =C85+F85 -> 169.05002 | I85: =D85+G85 -> 304.5822 | J85: =39877.36*B85 -> 264.3869
A86: GA 81 | B86: 0.00663 | C86: =25497.74*B86 -> 169.05002 | D86: =45940*B86 -> 304.5822 | E86: =D86-C86 -> 135.53218 | F86: =G219 -> 0 | G86: =F86*1.8017 -> 0 | H86: =C86+F86 -> 169.05002 | I86: =D86+G86 -> 304.5822 | J86: =39877.36*B86 -> 264.3869
A87: GA 82 | B87: 0.00663 | C87: =25497.74*B87 -> 169.05002 | D87: =45940*B87 -> 304.5822 | E87: =D87-C87 -> 135.53218 | F87: =G220 -> 0 | G87: =F87*1.8017 -> 0 | H87: =C87+F87 -> 169.05002 | I87: =D87+G87 -> 304.5822 | J87: =39877.36*B87 -> 264.3869
...
